BEGIN:VCALENDAR
VERSION:2.0
PRODID:-//Wy vom Wyhüsli//NONSGML kigkonsult.se iCalcreator 2.16.12//
METHOD:PUBLISH
X-MS-OLK-FORCEINSPECTOROPEN:TRUE
BEGIN:VEVENT
UID:20260419T152320CEST-1042v97fmX@Wy vom Wyhüsli
DTSTAMP:20260419T132320Z
DESCRIPTION:\nLiebe Weinfreunde\n\nHabt ihr Lust auf eine Degustation in sy
 mpathischen Rahmen? Wir laden euch herzlich ein zum\n\n\n\nWeinfestival im
  Wyhüsli in Koppigen\n\nFreitag\, 7. Juni 17 - 22 Uhr und Samstag\, 8. Jun
 i 13 - 22 Uhr \n \n- Degustation aller Neuheiten und Klassiker im Freien\n
 \n- Drei Produzenten vor Ort:\n\n*Tenuta Licinia\, Toskana\, Italien\n\n*B
 odegas Vetusta\, Ribera del Duero\, Spanien\n\n*Cantina Moscone\, Piemonte
 \, Italien\n\n- Gratis Häppchen\n\nWir freuen uns auf euren Besuch!\n\nAle
 xis Born\, Luigi Tricarico und s‘Wyhüsli Team
DTSTART:20240607T000000
DTEND:20240608T235900
LOCATION:Wyhüsli Koppigen
ORGANIZER:MAILTO:Wy vom Wyhüsli <info@wyhuesli.ch>
SUMMARY:Weinfestival mit Produzenten
END:VEVENT
END:VCALENDAR
