BEGIN:VCALENDAR
VERSION:2.0
PRODID:-//Wy vom Wyhüsli//NONSGML kigkonsult.se iCalcreator 2.16.12//
METHOD:PUBLISH
X-MS-OLK-FORCEINSPECTOROPEN:TRUE
BEGIN:VEVENT
UID:20260419T152146CEST-0528oHeTCB@Wy vom Wyhüsli
DTSTAMP:20260419T132146Z
DESCRIPTION:
DTSTART:20240713T000000
DTEND:20240714T235900
LOCATION:Wyhüsli Koppigen
ORGANIZER:MAILTO:Wy vom Wyhüsli <info@wyhuesli.ch>
SUMMARY:Schnittersonntag mit MG Koppigen
END:VEVENT
END:VCALENDAR
