BEGIN:VCALENDAR
VERSION:2.0
PRODID:-//Wy vom Wyhüsli//NONSGML kigkonsult.se iCalcreator 2.16.12//
METHOD:PUBLISH
X-MS-OLK-FORCEINSPECTOROPEN:TRUE
BEGIN:VEVENT
UID:20260419T152727CEST-2212rgVvdw@Wy vom Wyhüsli
DTSTAMP:20260419T132727Z
DESCRIPTION:
DTSTART:20240726T000000
DTEND:20240727T235900
LOCATION:Openair Etziken
ORGANIZER:MAILTO:Wy vom Wyhüsli <info@wyhuesli.ch>
SUMMARY:'le petit bar' am Openair Etziken  
END:VEVENT
END:VCALENDAR
