BEGIN:VCALENDAR
VERSION:2.0
PRODID:-//Wy vom Wyhüsli//NONSGML kigkonsult.se iCalcreator 2.16.12//
METHOD:PUBLISH
X-MS-OLK-FORCEINSPECTOROPEN:TRUE
BEGIN:VEVENT
UID:20260419T152529CEST-2394suguji@Wy vom Wyhüsli
DTSTAMP:20260419T132529Z
DESCRIPTION:18 Uhr\n\nPreis pro Person für Speis & Trank ist CHF 35.–.\n\nB
 ei einem Einkauf ab CHF 350.– wird die Eintrittspauschale offeriert.
DTSTART:20240816T180000
DTEND:20240816T220000
LOCATION:Wyhüsli Koppigen
ORGANIZER:MAILTO:Wy vom Wyhüsli <info@wyhuesli.ch>
SUMMARY:Wein & Satay Spiesse
END:VEVENT
END:VCALENDAR
