BEGIN:VCALENDAR
VERSION:2.0
PRODID:-//Wy vom Wyhüsli//NONSGML kigkonsult.se iCalcreator 2.16.12//
METHOD:PUBLISH
X-MS-OLK-FORCEINSPECTOROPEN:TRUE
BEGIN:VEVENT
UID:20260419T140844CEST-9252sA8nuH@Wy vom Wyhüsli
DTSTAMP:20260419T120844Z
DESCRIPTION:\nCHF 35.- pro Person\nBei einem Einkauf ab CHF 350.– wird die 
 Eintrittspauschale offeriert.\n\nvon 18.00 - 22.00 Uhr\n\nmit Raclette Käs
 e der Molkerei Lanz\n\n 
DTSTART:20241129T000000
DTEND:20241129T235900
LOCATION:Wyhüsli Koppigen
ORGANIZER:MAILTO:Wy vom Wyhüsli <info@wyhuesli.ch>
SUMMARY:Wein & Raclette - AUSVERKAUFT
END:VEVENT
END:VCALENDAR
