BEGIN:VCALENDAR
VERSION:2.0
PRODID:-//Wy vom Wyhüsli//NONSGML kigkonsult.se iCalcreator 2.16.12//
METHOD:PUBLISH
X-MS-OLK-FORCEINSPECTOROPEN:TRUE
BEGIN:VEVENT
UID:20260419T152727CEST-5400vpBZKP@Wy vom Wyhüsli
DTSTAMP:20260419T132727Z
DESCRIPTION:\nWir freuen uns\, beim 1. Wyyfestival Solothurn dabei zu sein 
 - Sie auch?\n\nVom 14. bis 17. März 2024 findet erstmals in der stilvollen
  Rythalle Solothurn das WYYSO - Wyyfestival Solothurn statt. 15-20 Weinimp
 orteure\, Winzer und Weingüter präsentierten ihre besten und neuesten Wein
 kreationen und laden Weinfreunde und Geniesser zu einer Verkostung von meh
 reren hundert Weinen aus unterschiedlichen Ländern ein. Foodstände\, eine 
 Bühne mit diversen Künstlern sowie eine Afterparty laden zum Verweilen und
  Geniessen ein!\n15-20 Weinimporteure\, Winzer und Weingüter werden Weine 
 aus den unterschiedlichsten Regionen der Schweiz sowie der gesamten Welt a
 nbieten. \n\n​Jeder Stand bietet seine Weine zum Degustieren an. Essensstä
 nde werden den Besuch mit passenden Köstlichkeiten abrunden. Weiter werden
  auf einer kleinen Bühne akustische Konzerte geboten.\n\nÖffnungszeiten\n
 \nDas 1. WYYSO wird in der Rythalle Solothurn (Baselstrasse 3) durchgeführ
 t und findet an folgenden Tagen statt:\n\nDo\, 14. März 2024: 17:00 – 22:0
 0 Uhr\n\nFr\, 15.März 2024: 17:00 – 22:00 Uhr (Afterparty bis 01:00 Uhr)\n
 \nSa\, 16.März 2024: 14:00 – 22:00 Uhr (Afterparty bis 01:00 Uhr)\n\nSo\, 
 17. März 2024: 12:00 – 18:00 Uhr\n\nEintritt\n\nTickets kosten im Vorverka
 uf 22.- und sind für den Degustationsbereich in der Rythalle sowie auch fü
 r die Afterparty gültig. Die Tickets können hier erworben werden.\n
DTSTART:20240314T000000
DTEND:20240317T235900
LOCATION:Rythalle Solothurn
ORGANIZER:MAILTO:Wy vom Wyhüsli <info@wyhuesli.ch>
SUMMARY:1. Wyyfestival Solothurn
END:VEVENT
END:VCALENDAR
