BEGIN:VCALENDAR
VERSION:2.0
PRODID:-//Wy vom Wyhüsli//NONSGML kigkonsult.se iCalcreator 2.16.12//
METHOD:PUBLISH
X-MS-OLK-FORCEINSPECTOROPEN:TRUE
BEGIN:VEVENT
UID:20260419T152300CEST-5252DWHkfk@Wy vom Wyhüsli
DTSTAMP:20260419T132300Z
DESCRIPTION:CHF 25.- pro Person\n\nvon 18.00 - 22.00 Uhr
DTSTART:20240705T000000
DTEND:20240705T235900
LOCATION:Wyhüsli Koppigen
ORGANIZER:MAILTO:Wy vom Wyhüsli <info@wyhuesli.ch>
SUMMARY:Wein & EM Würste
END:VEVENT
END:VCALENDAR
