BEGIN:VCALENDAR
VERSION:2.0
PRODID:-//Wy vom Wyhüsli//NONSGML kigkonsult.se iCalcreator 2.16.12//
METHOD:PUBLISH
X-MS-OLK-FORCEINSPECTOROPEN:TRUE
BEGIN:VEVENT
UID:20260423T121923CEST-71564XXnwM@Wy vom Wyhüsli
DTSTAMP:20260423T101923Z
DESCRIPTION:\n\nEs erwartet euch eine breite Palette an köstlichen Käsen zu
 m Geniessen.\nDazu passend degustieren ihr ca. 15 Weine aus dem Wyhüsli-So
 rtiment.\n\nDie Platzzahl ist beschränkt:\nMelden Sie sich noch heute onli
 ne an (unten beim Link Jetzt anmelden) oder über info@wyhuesli.ch\noder te
 lefonisch +41 34 413 11 77\n\nPreis pro Person für Speis & Trank ist CHF 4
 5.–\nBei einem Einkauf ab CHF 450.– wird der Betrag angerechnet.
DTSTART:20251024T180000
DTEND:20251024T220000
LOCATION:Wyhüsli Koppigen
ORGANIZER:MAILTO:Wy vom Wyhüsli <info@wyhuesli.ch>
SUMMARY:Wein & Käse 
END:VEVENT
END:VCALENDAR
