BEGIN:VCALENDAR
VERSION:2.0
PRODID:-//Wy vom Wyhüsli//NONSGML kigkonsult.se iCalcreator 2.16.12//
METHOD:PUBLISH
X-MS-OLK-FORCEINSPECTOROPEN:TRUE
BEGIN:VEVENT
UID:20260421T115417CEST-23712THGZF@Wy vom Wyhüsli
DTSTAMP:20260421T095417Z
DESCRIPTION:
DTSTART:20250725T000000
DTEND:20250726T235900
LOCATION:Openair Etziken
ORGANIZER:MAILTO:Wy vom Wyhüsli <info@wyhuesli.ch>
SUMMARY:'le petit bar' am Openair Etziken  
END:VEVENT
END:VCALENDAR
