BEGIN:VCALENDAR
VERSION:2.0
PRODID:-//Wy vom Wyhüsli//NONSGML kigkonsult.se iCalcreator 2.16.12//
METHOD:PUBLISH
X-MS-OLK-FORCEINSPECTOROPEN:TRUE
BEGIN:VEVENT
UID:20260421T113604CEST-6821r2zl2A@Wy vom Wyhüsli
DTSTAMP:20260421T093604Z
DESCRIPTION:Einfach vorbei kommen und überraschende Weine degustieren.\nFre
 itag von 18 - 22 Uhr  I  Samstag von 14 - 22 Uhr\nAn unseren Frühlings-Deg
 ustationen haben Sie die Gelegenheit\, einen guten Überblick über unser So
 rtiment zu erlangen. Wir zeigen Ihnen neben unseren Klassikern die Neuheit
 en und natürlich auch spezifisch auf den Frühling und Sommer abgestimmte W
 eine.\n\n\n\n\n\n 
DTSTART:20250516T000000
DTEND:20250517T235900
LOCATION:Wyhüsli Koppigen
ORGANIZER:MAILTO:Wy vom Wyhüsli <info@wyhuesli.ch>
SUMMARY:Frühlings-Degustation Koppigen 
END:VEVENT
END:VCALENDAR
