BEGIN:VCALENDAR
VERSION:2.0
PRODID:-//Wy vom Wyhüsli//NONSGML kigkonsult.se iCalcreator 2.16.12//
METHOD:PUBLISH
X-MS-OLK-FORCEINSPECTOROPEN:TRUE
BEGIN:VEVENT
UID:20260419T153020CEST-2635ecziSu@Wy vom Wyhüsli
DTSTAMP:20260419T133020Z
DESCRIPTION:\nWir freuen uns\, auch beim 3. Wyyfestival Solothurn dabei zu 
 sein - ihr auch?\n\nVom 12. bis 15. März 2026 findet in der stilvollen Ryt
 halle Solothurn das WYYSO - Wyyfestival Solothurn statt. 15-20 Weinimporte
 ure\, Winzer und Weingüter präsentierten ihre besten und neuesten Weinkrea
 tionen und laden Weinfreunde und Geniesser zu einer Verkostung von mehrere
 n hundert Weinen aus unterschiedlichen Ländern ein. Foodstände\, eine Bühn
 e mit diversen Künstlern sowie eine Afterparty laden zum Verweilen und Gen
 iessen ein!\n\n15-20 Weinimporteure\, Winzer und Weingüter werden Weine au
 s den unterschiedlichsten Regionen der Schweiz sowie der gesamten Welt anb
 ieten. \n\n​Jeder Stand bietet seine Weine zum Degustieren an. Essensständ
 e werden den Besuch mit passenden Köstlichkeiten abrunden. Weiter werden a
 uf einer kleinen Bühne akustische Konzerte geboten.\n\n \n
DTSTART:20260312T000000
DTEND:20260315T235900
LOCATION:Rythalle Solothurn
ORGANIZER:MAILTO:Wy vom Wyhüsli <info@wyhuesli.ch>
SUMMARY:3. Wyyfestival Solothurn
END:VEVENT
END:VCALENDAR
