BEGIN:VCALENDAR
VERSION:2.0
PRODID:-//Wy vom Wyhüsli//NONSGML kigkonsult.se iCalcreator 2.16.12//
METHOD:PUBLISH
X-MS-OLK-FORCEINSPECTOROPEN:TRUE
BEGIN:VEVENT
UID:20260419T140348CEST-97355D9Liu@Wy vom Wyhüsli
DTSTAMP:20260419T120348Z
DESCRIPTION:\n\nGenuss wie zu Hause – mit Tom von der Pastaria Tomaso \n\nE
 rlebe einen besonderen Abend in geselliger Runde: Verschiedene Gerichte we
 rden auf Platten und in Schüsseln serviert – zum Teilen\, Probieren und Ge
 niessen wie bei Freunden an einem Tisch.\n\nPreis: CHF 65.– inkl. Wein\nGr
 atis bei einem Einkauf ab CHF 650.–\n
DTSTART:20260327T000000
DTEND:20260327T235900
LOCATION:Wyhüsli Koppigen
ORGANIZER:MAILTO:Wy vom Wyhüsli <info@wyhuesli.ch>
SUMMARY:Tavolata NEU - AUSVERKAUFT
END:VEVENT
END:VCALENDAR
