BEGIN:VCALENDAR
VERSION:2.0
PRODID:-//Wy vom Wyhüsli//NONSGML kigkonsult.se iCalcreator 2.16.12//
METHOD:PUBLISH
X-MS-OLK-FORCEINSPECTOROPEN:TRUE
BEGIN:VEVENT
UID:20260419T152147CEST-4613t9l48R@Wy vom Wyhüsli
DTSTAMP:20260419T132147Z
DESCRIPTION:Pasta e basta\nZu diversen\, leckeren Pasta-Spezialitäten servi
 eren wir Ihnen ca. 15 Italienische Weine\, begleitet von den Musikklassike
 rn diverser Cantatore.\n\n\n\nDie Platzzahl ist beschränkt:\nMelden Sie si
 ch noch heute online an (unten beim Link Jetzt anmelden) oder über info@wy
 huesli.ch\noder telefonisch +41 34 413 11 77\n\nPreis pro Person für Speis
  & Trank ist CHF 25.–\nBei einem Einkauf ab CHF 250.– wird der Betrag ange
 rechnet.
DTSTART:20190823T180000
DTEND:20190823T235900
LOCATION:Wyhüsli
ORGANIZER:MAILTO:Wy vom Wyhüsli <info@wyhuesli.ch>
SUMMARY:Vino & Pasta im Wyhüsli
END:VEVENT
END:VCALENDAR
