BEGIN:VCALENDAR
VERSION:2.0
PRODID:-//Wy vom Wyhüsli//NONSGML kigkonsult.se iCalcreator 2.16.12//
METHOD:PUBLISH
X-MS-OLK-FORCEINSPECTOROPEN:TRUE
BEGIN:VEVENT
UID:20260419T152146CEST-9738ZTjR98@Wy vom Wyhüsli
DTSTAMP:20260419T132146Z
DESCRIPTION:Emmentaler Dorfkäserei Koppigen & Chäsbueb Bern\nEs erwartet Si
 e eine breite Palette an köstlichen Käsen zum Geniessen.\nDazu passend deg
 ustieren Sie ca. 15 Weine aus dem Wyhüsli-Sortiment.\n\n\n\nDie Platzzahl 
 ist beschränkt:\nMelden Sie sich noch heute online an (unten beim Link Jet
 zt anmelden) oder über info@wyhuesli.ch\noder telefonisch +41 34 413 11 77
 \n\nPreis pro Person für Speis & Trank ist CHF 35.–\nBei einem Einkauf ab 
 CHF 350.– wird der Betrag angerechnet.
DTSTART:20220613T180000
DTEND:20190913T235900
LOCATION:Wyhüsli
ORGANIZER:MAILTO:Wy vom Wyhüsli <info@wyhuesli.ch>
SUMMARY:Wein & Käse im Wyhüsli
END:VEVENT
END:VCALENDAR
