BEGIN:VCALENDAR
VERSION:2.0
PRODID:-//Wy vom Wyhüsli//NONSGML kigkonsult.se iCalcreator 2.16.12//
METHOD:PUBLISH
X-MS-OLK-FORCEINSPECTOROPEN:TRUE
BEGIN:VEVENT
UID:20260419T152209CEST-0505McdXPG@Wy vom Wyhüsli
DTSTAMP:20260419T132209Z
DESCRIPTION:Seit vielen Jahren freuen wir uns darauf\, unsere treue Berner 
 Kundschaft am Wyhüsli Stand an der Berner Weinmesse begrüssen zu dürfen.\n
 \n\n\nAuch in diesem Jahr haben Sie die Möglichkeit\, nach Lust und Laune 
 diverse Köstlichkeiten aus unserem Sortiment zu degustieren. Erzählen Sie 
 uns\, was Sie an einem Wein mögen und wir präsentieren Ihnen die entsprech
 enden Tropfen. Oder sagen Sie uns\, was auf dem Menu-Plan steht\, und wir 
 zeigen Ihnen die passenden Weine.\n\nWenn Sie noch Eintrittsvergünstigunge
 n brauchen melden Sie sich bitte unter 034 413 11 77 oder Mail an info@wyh
 uesli.ch\n\nNeu ist am Montag von 16 - 18 Uhr der Eintritt frei!\n\nWeinli
 ste\n 
DTSTART:20191011T000000
DTEND:20191020T000000
LOCATION:Bern
ORGANIZER:MAILTO:Wy vom Wyhüsli <info@wyhuesli.ch>
SUMMARY:Berner Weinmesse
END:VEVENT
END:VCALENDAR
