BEGIN:VCALENDAR
VERSION:2.0
PRODID:-//Wy vom Wyhüsli//NONSGML kigkonsult.se iCalcreator 2.16.12//
METHOD:PUBLISH
X-MS-OLK-FORCEINSPECTOROPEN:TRUE
BEGIN:VEVENT
UID:20260419T152255CEST-2075U37eZA@Wy vom Wyhüsli
DTSTAMP:20260419T132255Z
DESCRIPTION:Liebe Bordeaux-Liebhaber\n\nGerne laden wir Sie ein\, zu einer 
 einmaligen Degustation in unserem Bordeaux-Keller!\n\n\n\nTauchen Sie ein 
 in die faszinierende Bordeaux Welt und degustieren Sie direkt in unserem G
 ewölbekeller\, in dem die edlen Tropfen gelagert sind\, Bordeaux-Weine aus
  verschiedenen Regionen und Jahrgängen\, begleitet von Häppchen\, aber auc
 h gereifte Weine aus anderen Ländern.\n\nWir sind in der glücklichen Lage\
 , Ihnen auch schön gereifte Weine zu absolut fairen Preisen anbieten zu kö
 nnen.\n\nGeniessen Sie einen angenehmen und unkomplizierten Aufenthalt im 
 Keller zwischen Holzkisten und Weinkartons und lassen Sie sich von den fei
 nen Bordeaux- und typischen Weinkellerdüften inspirieren.\n\nWir freuen un
 s auf Sie!\nLuigi Tricarico\, Alexis Born & s'Wyhüsli-Team
DTSTART:20191026T160000
DTEND:20191026T210000
LOCATION:Bordeaux-Keller im Wyhüsli
ORGANIZER:MAILTO:Wy vom Wyhüsli <info@wyhuesli.ch>
SUMMARY:Bordeaux Degustation
END:VEVENT
END:VCALENDAR
