BEGIN:VCALENDAR
VERSION:2.0
PRODID:-//Wy vom Wyhüsli//NONSGML kigkonsult.se iCalcreator 2.16.12//
METHOD:PUBLISH
X-MS-OLK-FORCEINSPECTOROPEN:TRUE
BEGIN:VEVENT
UID:20260419T152020CEST-28501FPFkA@Wy vom Wyhüsli
DTSTAMP:20260419T132020Z
DESCRIPTION:Die Verschnuufferclique gibt dem Wyhüsli und Bernhard Gürlet\nW
 einbau Twann wieder während 4 Tagen das Gastrecht in ihrem\nwunderschönen 
 Keller.\n\n\n\nGerne empfangen wir Sie in diesem gemütlichen Ambiente mit 
 einer\ngrossen Auswahl an Weinen\, begleitet von kleinen Häppchen.\nSie dü
 rfen gerne ihre Freunde mitbringen.\n\nWir freuen uns auf Sie!\nAlexis Bor
 n\, Luigi Tricarico & s’Wyhüsli Team\n\nim Cliquekäller Verschnuuffer\nMal
 zgasse 9 / Basel\n2 Minuten ab Aschenplatz Do und Fr von 16 - 21 Uhr\nSa v
 on 14 - 21 Uhr / So von 13 - 18 Uhr\n 
DTSTART:20191031T160000
DTEND:20191103T180000
LOCATION:Basel
ORGANIZER:MAILTO:Wy vom Wyhüsli <info@wyhuesli.ch>
SUMMARY:Caveau Basel
END:VEVENT
END:VCALENDAR
