BEGIN:VCALENDAR
VERSION:2.0
PRODID:-//Wy vom Wyhüsli//NONSGML kigkonsult.se iCalcreator 2.16.12//
METHOD:PUBLISH
X-MS-OLK-FORCEINSPECTOROPEN:TRUE
BEGIN:VEVENT
UID:20260419T152115CEST-4161LjwjGC@Wy vom Wyhüsli
DTSTAMP:20260419T132115Z
DESCRIPTION:Liebe Weinfreunde\n\nKommen Sie vorbei und lassen Sie sich über
 raschen!\n\n\n\nDie Degustation in unseren zwei Gewölbekellern ist die Gel
 egenheit\, einen guten Überblick über unser Sortiment zu erlangen.\n\nZum 
 Abschluss geniessen Sie einen feinen Grappa\, Cognac\, Armagnac\, Calvados
  oder einen edelsüssen Sauternes in unserem Grappa-Corner.\n\nWie immer gi
 bt es dazu eine köstliche Auswahl an Käse.\n\nWir freuen uns auf Sie!\nS' 
 Wyhüsli-Team
DTSTART:20191107T000000
DTEND:20191116T235900
LOCATION:Wyhüsli Koppigen
ORGANIZER:MAILTO:Wy vom Wyhüsli <info@wyhuesli.ch>
SUMMARY:Caveau Koppigen
END:VEVENT
END:VCALENDAR
