BEGIN:VCALENDAR
VERSION:2.0
PRODID:-//Wy vom Wyhüsli//NONSGML kigkonsult.se iCalcreator 2.16.12//
METHOD:PUBLISH
X-MS-OLK-FORCEINSPECTOROPEN:TRUE
BEGIN:VEVENT
UID:20260419T152201CEST-0696nttTzb@Wy vom Wyhüsli
DTSTAMP:20260419T132201Z
DESCRIPTION:Freitag von 16 – 21 Uhr\n\nSamstag von 14 – 21 Uhr
DTSTART:20200320T000000
DTEND:20200321T235900
LOCATION:Waldvögeli Basel
ORGANIZER:MAILTO:Wy vom Wyhüsli <info@wyhuesli.ch>
SUMMARY:Frühlings-Degustation Basel - VERSCHOBEN
END:VEVENT
END:VCALENDAR
