BEGIN:VCALENDAR
VERSION:2.0
PRODID:-//Wy vom Wyhüsli//NONSGML kigkonsult.se iCalcreator 2.16.12//
METHOD:PUBLISH
X-MS-OLK-FORCEINSPECTOROPEN:TRUE
BEGIN:VEVENT
UID:20260419T152340CEST-2645pG68wI@Wy vom Wyhüsli
DTSTAMP:20260419T132340Z
DESCRIPTION:Montag bis Freitag     16.00 – 22.00\nSamstag                  
     14.00 – 22.00\nSonntag                       12.00 – 18.00\nDonnerstag
 \, 14.05.20  16.00 – 21.00
DTSTART:20200507T000000
DTEND:20200514T235900
LOCATION:Puls 5 Zürich 
ORGANIZER:MAILTO:Wy vom Wyhüsli <info@wyhuesli.ch>
SUMMARY:Expovina Primavera - ABGESAGT
END:VEVENT
END:VCALENDAR
